BEGIN:VCALENDAR
VERSION:2.0
PRODID:-//Library Market//iCal Export//EN
BEGIN:VEVENT
SUMMARY:Free Blood Pressure Check
UID:80484
DTSTAMP:20260419T155100Z
DTSTART:20260506T133000Z
DTEND:20260506T143000Z
LOCATION:151 Laurel Avenue, Northport, NY 11768, United States
ROOM: Gallery - Northport
DESCRIPTION:A nurse from Visiting Nurse Service is available to provide a 
 blood pressure check. No registration required.
URL:https://www.nenpl.org/event/free-blood-pressure-check-80484
END:VEVENT
END:VCALENDAR
