BEGIN:VCALENDAR
VERSION:2.0
PRODID:-//Library Market//iCal Export//EN
BEGIN:VEVENT
SUMMARY:Free Blood Pressure Check
UID:80485
DTSTAMP:20260419T152000Z
DTSTART:20260506T150000Z
DTEND:20260506T160000Z
LOCATION:185 Larkfield Road, East Northport, NY 11731, United States
ROOM: Teen Room - East Northport
DESCRIPTION:A nurse from Visiting Nurse Service &amp; Hospice of Suffolk p
 rovides free blood pressure checks on the first Wednesday morning of every
  month.  No registration required.
URL:https://www.nenpl.org/event/free-blood-pressure-check-80485
END:VEVENT
END:VCALENDAR
