BEGIN:VCALENDAR
VERSION:2.0
PRODID:-//Library Market//iCal Export//EN
BEGIN:VEVENT
SUMMARY:Granola Bars
UID:81759
DTSTAMP:20260419T152000Z
DTSTART:20260506T230000Z
DTEND:20260507T003000Z
LOCATION:151 Laurel Avenue, Northport, NY 11768, United States
ROOM: Community Room - Northport
DESCRIPTION:NENA457Join A Mano Baking Company and learn to make this quick
  and delicious chewy snack. With ingredients including nut butter, honey, 
 rolled oats, mini chocolate chips, and seeds, these bars are wholesome, na
 turally sweet, and gluten free! Each participant will make one pan of gran
 ola bars to take home. Please bring a large mixing bowl and utensil of cho
 ice. A $7 materials fee (cash or check payable to &quot;Northport-East Nor
 thport Public Library&quot;) is due at the time of registration. In-person
  registration begins April 23. 
URL:https://www.nenpl.org/event/best-buttermilk-biscuits-81759
END:VEVENT
END:VCALENDAR
