BEGIN:VCALENDAR
VERSION:2.0
PRODID:-//Library Market//iCal Export//EN
BEGIN:VEVENT
SUMMARY:Pressed Flower Mason Jar
UID:81760
DTSTAMP:20260419T152000Z
DTSTART:20260507T223000Z
DTEND:20260508T003000Z
LOCATION:151 Laurel Avenue, Northport, NY 11768, United States
ROOM: Community Room - Northport
DESCRIPTION:NENA458Create a beautiful keepsake with resident artist Pamela
 . In this relaxing class, you will decorate a mason jar with real pressed 
 flowers and design a one-of-a-kind piece perfect as a candle holder, vase,
  or homemade gift. All materials are provided; just bring your imagination
 ! A $5 materials fee (cash or check payable to &quot;Northport-East Northp
 ort Public Library&quot;) is due at the time of registration. In-person re
 gistration begins April 24.
URL:https://www.nenpl.org/event/pressed-flower-mason-jar-81760
END:VEVENT
END:VCALENDAR
