BEGIN:VCALENDAR
VERSION:2.0
PRODID:-//Library Market//iCal Export//EN
BEGIN:VEVENT
SUMMARY:Time Is Brain: Stroke Recognition, Risk Factors, and Response (via
  Zoom)
UID:81774
DTSTAMP:20260419T171700Z
DTSTART:20260511T230000Z
DTEND:20260512T000000Z
LOCATION:
DESCRIPTION:NENA461Join experts from the Designated Stroke Center, Emergen
 cy, and Neurology Departments of St. Catherine of Siena Hospital for this 
 informative stoke awareness and prevention lecture. Learn to recognize ris
 k factors that can lead to strokes, how to spot early warning signs, and t
 he practical steps to be taken quickly if symptoms appear. Registration is
  underway. This program is cosponsored with the public libraries in the To
 wn of Huntington. 
URL:https://www.nenpl.org/event/time-brain-stroke-recognition-risk-factors
 -and-response-zoom-81774
END:VEVENT
END:VCALENDAR
