BEGIN:VCALENDAR
VERSION:2.0
PRODID:-//Library Market//iCal Export//EN
BEGIN:VEVENT
SUMMARY:Patriotic-Inspired Scented Sachets
UID:81777
DTSTAMP:20260419T171800Z
DTSTART:20260512T150000Z
DTEND:20260512T170000Z
LOCATION:151 Laurel Avenue, Northport, NY 11768, United States
ROOM: Community Room - Northport
DESCRIPTION:NENA462Did you know that floral and herbal sachets were used d
 uring colonial times? Learn more in this relaxing workshop led by arts ins
 tructor Janice. Sewing machines will be used to create your own lavender, 
 sage, or floral scented sachet pillow. Beginners are welcome. A $5 materia
 ls fee (cash or check payable to &quot;Northport-East Northport Public Lib
 rary&quot;) is due at the time of registration. In-person registration beg
 ins May 1. 
URL:https://www.nenpl.org/event/patriotic-inspired-scented-sachets-81777
END:VEVENT
END:VCALENDAR
