BEGIN:VCALENDAR
VERSION:2.0
PRODID:-//Library Market//iCal Export//EN
BEGIN:VEVENT
SUMMARY:NAC Presents! Marcie Passley
UID:81785
DTSTAMP:20260419T171800Z
DTSTART:20260514T230000Z
DTEND:20260515T004500Z
LOCATION:151 Laurel Avenue, Northport, NY 11768, United States
ROOM: Community Room - Northport
DESCRIPTION:NENA463Share an evening with Port Washington resident Marcie P
 assley celebrating the music of Broadway&#039;s beloved songwriting duos i
 ncluding Rodgers &amp; Hart, Rodgers &amp; Hammerstein, Kander &amp; Ebb, 
 and Lerner &amp; Loewe. Enjoy a lively mix of classic songs that showcase 
 the heart, humor, and storytelling that made these legendary teams iconic.
  Registration is underway. this event is cosponsored with Northport Arts C
 oalition. 
URL:https://www.nenpl.org/event/nac-presents-marcie-passley-81785
END:VEVENT
END:VCALENDAR
