BEGIN:VCALENDAR
VERSION:2.0
PRODID:-//Library Market//iCal Export//EN
BEGIN:VEVENT
SUMMARY:One-On-One Medicare Counseling
UID:81793
DTSTAMP:20260419T172000Z
DTSTART:20260513T140000Z
DTEND:20260513T143000Z
LOCATION:185 Larkfield Road, East Northport, NY 11731, United States
ROOM: Tutorial Room - East Northport
DESCRIPTION:NENA465A volunteer from HIICAP will answer your questions abou
 t Medicare in a one-on-one appointment. Registration begins on May 1. 
URL:https://www.nenpl.org/event/one-one-medicare-counseling-81793
END:VEVENT
END:VCALENDAR
