BEGIN:VCALENDAR
VERSION:2.0
PRODID:-//Library Market//iCal Export//EN
BEGIN:VEVENT
SUMMARY:BenAnna Band
UID:81862
DTSTAMP:20260419T171900Z
DTSTART:20260516T140000Z
DTEND:20260516T144500Z
LOCATION:151 Laurel Avenue, Northport, NY 11768, United States
ROOM: Community Room - Northport
DESCRIPTION:NENJ548For families with children birth – 5 yearsKids will g
 o bananas for this high-energy musical duo. With a mix of pop music, child
 ren’s classics, and their own original songs, families will be singing, 
 dancing, and playing along. (45 min.) 
URL:https://www.nenpl.org/event/benanna-band-81862
END:VEVENT
END:VCALENDAR
