BEGIN:VCALENDAR
VERSION:2.0
PRODID:-//Library Market//iCal Export//EN
BEGIN:VEVENT
SUMMARY:Taco Tuesday Party
UID:81869
DTSTAMP:20260419T152000Z
DTSTART:20260505T200000Z
DTEND:20260505T204500Z
LOCATION:151 Laurel Avenue, Northport, NY 11768, United States
ROOM: The Cove - Northport
DESCRIPTION:NENJ549Children in grades K-2It’s nacho ordinary storytime. 
 Let’s guac and roll with books, music and a craft that’s sure to spec-
 taco-lar! (45 min.) 
URL:https://www.nenpl.org/event/taco-tuesday-party-81869
END:VEVENT
END:VCALENDAR
