BEGIN:VCALENDAR
VERSION:2.0
PRODID:-//Library Market//iCal Export//EN
BEGIN:VEVENT
SUMMARY:Chess Club (Drop-In)
UID:81870
DTSTAMP:20260419T155100Z
DTSTART:20260506T223000Z
DTEND:20260506T231500Z
LOCATION:151 Laurel Avenue, Northport, NY 11768, United States
ROOM: The Cove - Northport
DESCRIPTION:Children in grades K-5Chess teaches kids foresight, helps expa
 nd self-confidence, and sharpens their ability to focus. All skill levels 
 are welcome, but a basic knowledge of the game is recommended. (45 min.) N
 o registration required.
URL:https://www.nenpl.org/event/chess-club-drop-81870
END:VEVENT
END:VCALENDAR
