BEGIN:VCALENDAR
VERSION:2.0
PRODID:-//Library Market//iCal Export//EN
BEGIN:VEVENT
SUMMARY:Pajama Storytime (Drop-in)
UID:81902
DTSTAMP:20260419T171900Z
DTSTART:20260512T230000Z
DTEND:20260512T233000Z
LOCATION:185 Larkfield Road, East Northport, NY 11731, United States
ROOM: Community Room - East Northport
DESCRIPTION:Children birth – 5 years with adult; siblings welcomeShake a
 ll your sillies out before bed in this evening family storytime. (30 min.)
  No registration required.
URL:https://www.nenpl.org/event/pajama-storytime-drop-81902
END:VEVENT
END:VCALENDAR
