BEGIN:VCALENDAR
VERSION:2.0
PRODID:-//Library Market//iCal Export//EN
BEGIN:VEVENT
SUMMARY:Galaxy Jar
UID:81904
DTSTAMP:20260419T171900Z
DTSTART:20260514T200000Z
DTEND:20260514T204500Z
LOCATION:185 Larkfield Road, East Northport, NY 11731, United States
ROOM: Community Room - East Northport
DESCRIPTION:NENJ550Children in grades 1-5            Get creati
 ve and make an out of this world craft using cotton balls, paint, and glit
 ter. (45 min.) 
URL:https://www.nenpl.org/event/galaxy-jar-81904
END:VEVENT
END:VCALENDAR
