BEGIN:VCALENDAR
VERSION:2.0
PRODID:-//Library Market//iCal Export//EN
BEGIN:VEVENT
SUMMARY:Anything Goes Legos (Drop-in)
UID:81906
DTSTAMP:20260419T171900Z
DTSTART:20260515T200000Z
DTEND:20260515T204500Z
LOCATION:185 Larkfield Road, East Northport, NY 11731, United States
ROOM: Community Room - East Northport
DESCRIPTION:Children entering grades 1-5            Use the lib
 rary’s LEGOs to build your own creation that will go on display in the C
 hildren’s Room. (45 min.) No registration required.
URL:https://www.nenpl.org/event/anything-goes-legos-drop-81906
END:VEVENT
END:VCALENDAR
