BEGIN:VCALENDAR
VERSION:2.0
PRODID:-//Library Market//iCal Export//EN
BEGIN:VEVENT
SUMMARY:Friday Film: Merrily We Roll Along
UID:82073
DTSTAMP:20260419T171900Z
DTSTART:20260508T180000Z
DTEND:20260508T203000Z
LOCATION:185 Larkfield Road, East Northport, NY 11731, United States
ROOM: Community Room - East Northport
DESCRIPTION:Spanning three decades, this film follows the turbulent relati
 onship between a composer and his two lifelong friends—a writer, and a l
 yricist and playwright. This Tony Award-winning hit musical can now be exp
 erienced on the big screen. Starring Jonathan Groff and Daniel Radcliffe. 
 Rated PG-13. 145 min.
URL:https://www.nenpl.org/event/friday-film-merrily-we-roll-along-82073
END:VEVENT
END:VCALENDAR
