BEGIN:VCALENDAR
VERSION:2.0
PRODID:-//Library Market//iCal Export//EN
BEGIN:VEVENT
SUMMARY:Friday Film: Solo Mio
UID:82074
DTSTAMP:20260419T171800Z
DTSTART:20260515T180000Z
DTEND:20260515T194500Z
LOCATION:151 Laurel Avenue, Northport, NY 11768, United States
ROOM: Community Room - Northport
DESCRIPTION:Left heartbroken in Rome after a wedding disaster, a stranded 
 groom finds his ruined honeymoon transformed by a determined local and a f
 ew meddling travelers, proving that sometimes heartbreak is only the begin
 ning. Starring Kevin James. Rated PG. 97 min.
URL:https://www.nenpl.org/event/friday-film-solo-mio-82074
END:VEVENT
END:VCALENDAR
