BEGIN:VCALENDAR
VERSION:2.0
PRODID:-//Library Market//iCal Export//EN
BEGIN:VEVENT
SUMMARY:Director Spotlight Film Discussion: Stalag 17
UID:82084
DTSTAMP:20260419T154100Z
DTSTART:20260507T180000Z
DTEND:20260507T203000Z
LOCATION:151 Laurel Avenue, Northport, NY 11768, United States
ROOM: Community Room - Northport
DESCRIPTION:Join a group of fellow film lovers led by lecturer JoAnn Prosc
 ia to view and discuss Billy Wilder’s Stalag 17 starring William Holden 
 and Otto Preminger. The film recounts the story of a group of American air
 men confined to a German prisoner-of-war camp, and in this particular barr
 acks, the men come to suspect that one is an informant. Unrated. 120 min.
URL:https://www.nenpl.org/event/director-spotlight-film-discussion-stalag-
 17-82084
END:VEVENT
END:VCALENDAR
