BEGIN:VCALENDAR
VERSION:2.0
PRODID:-//Library Market//iCal Export//EN
BEGIN:VEVENT
SUMMARY:Celebrating America&#039;s 250th Birthday with Sal St. George
UID:82086
DTSTAMP:20260419T171900Z
DTSTART:20260512T180000Z
DTEND:20260512T200000Z
LOCATION:151 Laurel Avenue, Northport, NY 11768, United States
ROOM: Community Room - Northport
DESCRIPTION:Learn how Hollywood interpreted the American Revolution throug
 h three motion picture styles: drama, musical, and comedy. Featured will b
 e: The Crossing (2000) where George Washington struggles to cross the Dela
 ware River and endures the Battle of Trenton; 1776 (1972), the Tony Award-
 winning musical that revolves around our Founding Fathers’ decision to d
 eclare independence from Britain; and The Time of Their Lives (1946), Abbo
 tt and Costello’s comedic interpretations of historical events.
URL:https://www.nenpl.org/event/celebrating-americas-250th-birthday-sal-st
 -george-82086
END:VEVENT
END:VCALENDAR
