BEGIN:VCALENDAR
VERSION:2.0
PRODID:-//Library Market//iCal Export//EN
BEGIN:VEVENT
SUMMARY:LEGO Club
UID:82096
DTSTAMP:20260419T171900Z
DTSTART:20260515T230000Z
DTEND:20260516T000000Z
LOCATION:151 Laurel Avenue, Northport, NY 11768, United States
ROOM: Teen Room - Northport
DESCRIPTION:NENY925Teens in Grades 6-12Open to NENPL cardholders onlyBuild
  your own Retro Gaming console with fellow brick builders. 
URL:https://www.nenpl.org/event/lego-club-82096
END:VEVENT
END:VCALENDAR
