BEGIN:VCALENDAR
VERSION:2.0
PRODID:-//Library Market//iCal Export//EN
BEGIN:VEVENT
SUMMARY:Chess Club Volunteers
UID:82105
DTSTAMP:20260419T155100Z
DTSTART:20260506T221500Z
DTEND:20260506T233000Z
LOCATION:151 Laurel Avenue, Northport, NY 11768, United States
ROOM: Teen Volunteer-Northport
DESCRIPTION:NENY932Teens in Grades 7-12Open to NENPL cardholders onlyEarn 
 community service credit while you help children learn how to play chess. 
 A basic knowledge of the game is required for all volunteers. You may choo
 se a maximum of two volunteer opportunities in addition to Cards for Hospi
 talized Kids.
URL:https://www.nenpl.org/event/chess-club-volunteers-82105
END:VEVENT
END:VCALENDAR
