BEGIN:VCALENDAR
VERSION:2.0
PRODID:-//Library Market//iCal Export//EN
BEGIN:VEVENT
SUMMARY:Galaxy Jar Volunteers
UID:82106
DTSTAMP:20260419T171700Z
DTSTART:20260514T194500Z
DTEND:20260514T210000Z
LOCATION:185 Larkfield Road, East Northport, NY 11731, United States
ROOM: Teen Volunteer-East Northport
DESCRIPTION:NENY933Teens in Grades 7-12Open to NENPL cardholders onlyAssis
 t children in making a sensory jar that looks like outer space. You may ch
 oose a maximum of two volunteer opportunities in addition to Cards for Hos
 pitalized Kids.
URL:https://www.nenpl.org/event/galaxy-jar-volunteers-82106
END:VEVENT
END:VCALENDAR
