BEGIN:VCALENDAR
VERSION:2.0
PRODID:-//Library Market//iCal Export//EN
BEGIN:VEVENT
SUMMARY:Anything Goes LEGOs Volunteers
UID:82107
DTSTAMP:20260419T171900Z
DTSTART:20260515T194500Z
DTEND:20260515T210000Z
LOCATION:185 Larkfield Road, East Northport, NY 11731, United States
ROOM: Teen Volunteer-East Northport
DESCRIPTION:NENY934Teens in Grades 7-12Open to NENPL cardholders onlyAssis
 t children with LEGO projects. You may choose a maximum of two volunteer o
 pportunities in addition to Cards for Hospitalized Kids.
URL:https://www.nenpl.org/event/anything-goes-legos-volunteers-82107
END:VEVENT
END:VCALENDAR
