BEGIN:VCALENDAR
VERSION:2.0
PRODID:-//Library Market//iCal Export//EN
BEGIN:VEVENT
SUMMARY:Parenting Program: Healthy Habits and Preventing Picking Eating
UID:82119
DTSTAMP:20260421T025000Z
DTSTART:20260608T140000Z
DTEND:20260608T150000Z
LOCATION:185 Larkfield Road, East Northport, NY 11731, United States
ROOM: Community Room - East Northport
DESCRIPTION:NENJ560For parents and caregivers with children 18 months – 
 5 years            Learn how to nurture healthy eating habits f
 or young children and get practical tips for picky eaters from a registere
 d dietician nutritionist while your children play with toys beside you. Al
 l are welcome.  (60 min.) 
URL:https://www.nenpl.org/event/parenting-program-healthy-habits-and-preve
 nting-picking-eating-82119
END:VEVENT
END:VCALENDAR
